BEGIN:VCALENDAR
VERSION:2.0
PRODID:-//hacksw/handcal//NONSGML v1.0//EN
BEGIN:VEVENT
DTSTAMP:20240522T170000Z
DTSTART:20240522T170000Z
DTEND:20240522T170000Z
LOCATION:Restaurant "Die Ratsstube", Markt 1, Sankt Augustin, 53757, Deutschland
SUMMARY:Krieg in der Ukraine
END:VEVENT
END:VCALENDAR
